-8.37175447343908E-07
2.08941733703866E-06
2.49355452863493E-06
7.01382146682682E-07
-117.133312438623
33.075766285438
