3.10169739698567E-06
-4.70123521983069E-09
-5.44305678112435E-09
-2.59895568777276E-06
-117.12904182128
33.0795199460873
