2.36098576985608E-06
-1.70315451007342E-06
-2.0323910533162E-06
-1.97848734688988E-06
-117.125995058985
33.0795260217499
