-2.88613920933139E-06
3.66224360581952E-07
4.37225610315985E-07
2.41840138572661E-06
-117.129741650957
33.075729384634
