-2.65939868422733E-06
9.05319558810575E-07
1.08060307292002E-06
2.22833168856014E-06
-117.130567470428
33.0763170781361
