-2.10758710716379E-06
1.56826362946187E-06
1.87175900794611E-06
1.76587011627945E-06
-117.131443443444
33.0771875342107
