-1.46194600301653E-06
2.13298409766857E-06
2.54567599789638E-06
1.22482817815094E-06
-117.131992168563
33.0779026641577
