-5.66434234059131E-07
2.63875045206621E-06
3.14920682440187E-06
4.74468222011016E-07
-117.132624351505
33.0785217087159
