4.64423154518463E-07
2.74034814842734E-06
3.2704006298493E-06
-3.89219734433302E-07
-117.132732415209
33.0793910254522
