8.87105953927016E-07
2.74870931266589E-06
3.28035500570441E-06
-7.43351730246873E-07
-117.131596980349
33.0794492665557
