1.04216680647879E-06
2.76292679342779E-06
3.29730176991987E-06
-8.73268648006051E-07
-117.129958986794
33.0791180737185
