1.10125429743734E-06
2.78791195052504E-06
3.32709645170336E-06
-9.2278010150323E-07
-117.128150524108
33.0785962372324
