1.09855897004136E-06
2.90034731630109E-06
3.46124597780563E-06
-9.20535578887378E-07
-117.126351158656
33.0778280823767
