1.0079645218447E-06
2.88621851351449E-06
3.4443658746632E-06
-8.44637977830903E-07
-117.12413882545
33.0772190172763
