1.04804047609575E-06
2.92807356005424E-06
3.4942908646325E-06
-8.78222737467E-07
-117.122228231129
33.0766736204673
