1.17784360294322E-06
2.91390338680114E-06
3.47735923982854E-06
-9.86980332596868E-07
-117.120359814183
33.076303259588
