1.14599857761305E-06
2.75393993156102E-06
3.28645298861576E-06
-9.60295477055246E-07
-117.117947523679
33.0759355276529
