1.15518850728021E-06
2.86328992542784E-06
3.41691453161653E-06
-9.68009354077768E-07
-117.115979789314
33.0751256250023
