1.1549304412711E-06
2.77590790282571E-06
3.31261950317451E-06
-9.67794286823314E-07
-117.113648616863
33.0746427169054
