1.11750820070159E-06
2.79955261155858E-06
3.34080919944379E-06
-9.36448583942685E-07
-117.111409932296
33.073899704395
