9.50440104763111E-07
2.75912911359441E-06
3.29255250956126E-06
-7.96471468515739E-07
-117.10877218622
33.073191934086
