8.5658231932079E-07
2.80485293149786E-06
3.34709341539842E-06
-7.17838604828186E-07
-117.106392622296
33.0724639544552
