8.00373927792844E-07
2.85463457431949E-06
3.40647638694693E-06
-6.70750574259226E-07
-117.104020353429
33.0717997296464
