7.42848809887844E-07
2.84371226628098E-06
3.39342651899524E-06
-6.22553885537331E-07
-117.101530576149
33.0712887136879
