9.45389055426036E-07
2.81058786727169E-06
3.35387895230272E-06
-7.9226116029152E-07
-117.099532883393
33.0710713120171
