1.112791101168E-06
2.81246647786821E-06
3.35609725787833E-06
-9.32530972981904E-07
-117.097634246551
33.0706837895815
