1.19944342716874E-06
2.79243287981484E-06
3.33216722354477E-06
-1.005142159732E-06
-117.095530550859
33.0701506708812
