1.25025545808686E-06
2.83684444259111E-06
3.38513349332426E-06
-1.04772807391626E-06
-117.093432698661
33.0694579256065
