1.19100353228051E-06
2.93449872703944E-06
3.50162766598998E-06
-9.98095246238714E-07
-117.091226022189
33.0685498997658
