1.09412383887845E-06
2.90249268949987E-06
3.46341451290111E-06
-9.16923546927296E-07
-117.088714036358
33.067871227508
