1.08192381302729E-06
2.90340390825139E-06
3.4644785815212E-06
-9.06707150120135E-07
-117.086425240443
33.0672645882666
