1.14546731163447E-06
2.93590014744412E-06
3.50322692036933E-06
-9.59960405308419E-07
-117.084334156241
33.0666581708696
