1.25154815750805E-06
2.9684128783688E-06
3.54199318354614E-06
-1.04885772746435E-06
-117.082373680808
33.066073488505
