1.31021562700259E-06
2.95414194478579E-06
3.52493756157617E-06
-1.0980244421717E-06
-117.080252348372
33.0654617843457
