1.30464596234329E-06
2.99148011183328E-06
3.56945953386309E-06
-1.09336847482255E-06
-117.078061107581
33.0647093091781
