1.36382823184552E-06
2.98301192294438E-06
3.5593277001519E-06
-1.14296791205049E-06
-117.075951187502
33.0640946127484
