1.93098210364586E-06
2.74838464166041E-06
3.27936455975174E-06
-1.61820971547875E-06
-117.074400558959
33.0642937511606
