2.73603992531964E-06
2.2179393934551E-06
2.64648042623314E-06
-2.29281139726442E-06
-117.073142969807
33.0649371753053
