3.4444788505972E-06
1.40171645712978E-06
1.67265319466437E-06
-2.88650064682601E-06
-117.071828725173
33.0654581134724
