3.73082376335289E-06
5.28030666499194E-07
6.30252116839915E-07
-3.12654742808546E-06
-117.070288891385
33.0653740353978
