3.76392180796592E-06
-4.05520608813962E-07
-4.83590696448985E-07
-3.15442171245022E-06
-117.068900506486
33.0649038820343
