3.66767117090305E-06
-8.11092969236769E-07
-9.67487884416294E-07
-3.07386776074886E-06
-117.068668002556
33.0634374131283
