3.58974617273738E-06
-9.95952229142252E-07
-1.18803369115635E-06
-3.00864690292459E-06
-117.068987182338
33.0616973594942
