3.51854309085067E-06
-1.044549280872E-06
-1.2459965829162E-06
-2.94904574734773E-06
-117.06962902921
33.0596684635853
