3.44993059569934E-06
-1.0926023115221E-06
-1.30330749664893E-06
-2.89161271643444E-06
-117.070347492619
33.0576455415036
