3.36422164576592E-06
-1.10094253931704E-06
-1.31323940407797E-06
-2.81984349855714E-06
-117.07112058707
33.0555425753
