3.10896285265746E-06
-1.05621203698764E-06
-1.25987787619803E-06
-2.60595590114859E-06
-117.071693030823
33.0531213987303
