3.15587635002501E-06
-1.18500816647631E-06
-1.41349491166702E-06
-2.64534999057124E-06
-117.072599452785
33.0513732026143
