3.23685482967783E-06
-1.24816686152215E-06
-1.48879742767663E-06
-2.71329433230304E-06
-117.073766134967
33.0495283445249
