3.37812039260162E-06
-1.25193746787562E-06
-1.49324172558618E-06
-2.83177058273773E-06
-117.075113701478
33.0476362931726
